BEGIN:VCALENDAR
VERSION:2.0
PRODID:https://github.com/derhansen/sf_event_mgt
METHOD:PUBLISH
BEGIN:VEVENT
UID:15209-569@www.maine-et-loire.fr
CLASS: PUBLIC
SUMMARY:10e randonée Layon Hyrome
DESCRIPTION:Randonnée pédestre en ligne et allure ligne.\n\n6 parcours de
  43 - 34- 28 - 23 - 18 - 15 km\n\nTransport en bus sur le lieu de dé
 part de la randonnée.\n\nRepas et ravitaillements sur chaque circuits
LOCATION:Théâtre foirail
Avenue du général de Gaulle
DTSTAMP:20260316T131920Z
DTSTART:20260828T220000Z
DTEND:20260828T220000Z
END:VEVENT
END:VCALENDAR