BEGIN:VCALENDAR
VERSION:2.0
PRODID:https://github.com/derhansen/sf_event_mgt
METHOD:PUBLISH
BEGIN:VEVENT
UID:15321-569@www.maine-et-loire.fr
CLASS: PUBLIC
SUMMARY:25ème Festival bd Montreuil Bellay
DESCRIPTION:Le festival international de la bande dessinée à Montreuil-Be
 llay, c'est le rendez-vous annuel des amoureux de la BD ! Venez à la renc
 ontre de nombreux dessinateurs et scénaristes présents pour échanger su
 r le travail et dédicacer leurs œuvres.\n\nL’invitée d’honneur de l
 a 25ème édition est Florence Cestac, grande dame de la BD. A ses côtés
 , une trentaine d’autrices et d’auteurs concourront dans 4 catégories
  :\n\nPrix Manga\n\nPrix Jeunesse\n\nPrix du Jury\n\nPrix Jeune Talent\n\
 nDe nombreux stands et animations pour tous les âges rythmeront la manife
 station\n\n\n\nRestauration sur place
LOCATION:Prieuré des Nobis
Rue Georges Girouy
DTSTAMP:20260422T081900Z
DTSTART:20260529T220000Z
DTEND:20260520T220000Z
END:VEVENT
END:VCALENDAR