BEGIN:VCALENDAR
VERSION:2.0
PRODID:https://github.com/derhansen/sf_event_mgt
METHOD:PUBLISH
BEGIN:VEVENT
UID:13658-570@www.maine-et-loire.fr
CLASS: PUBLIC
SUMMARY:À contre vent
DESCRIPTION:À contre vent est une fable onirique où deux personnages, à 
 l’aide d’une structure évolutive en demie sphère, nous emportent dan
 s une parenthèse de voyage.
LOCATION:1 Rue Jean Gilles
DTSTAMP:20250915T140856Z
DTSTART:20260429T220000Z
DTEND:20260429T220000Z
END:VEVENT
END:VCALENDAR