BEGIN:VCALENDAR
VERSION:2.0
PRODID:https://github.com/derhansen/sf_event_mgt
METHOD:PUBLISH
BEGIN:VEVENT
UID:14291-570@www.maine-et-loire.fr
CLASS: PUBLIC
SUMMARY:À hauteur d'insectes
DESCRIPTION:Un moment ludique et joyeux pour comprendre la biodiversité et
  les défis auxquels sont confrontés les insectes. Changeons de regard su
 r ces petites bêtes !
LOCATION:Bibliothèque Maison Rouge
13 rue Victor Hugo
DTSTAMP:20260108T104730Z
DTSTART:20260526T220000Z
DTEND:20260526T220000Z
END:VEVENT
END:VCALENDAR