BEGIN:VCALENDAR
VERSION:2.0
PRODID:https://github.com/derhansen/sf_event_mgt
METHOD:PUBLISH
BEGIN:VEVENT
UID:14808-611@www.maine-et-loire.fr
CLASS: PUBLIC
SUMMARY:À hauteur d'insectes
DESCRIPTION:Dans le cadre des Rendez-vous nature 2026.\n\nÀ hauteur d'inse
 ctes est un jeu de rôle familial où chaque équipe doit faire survivre s
 on insecte le temps d'un printemps mouvementé ! Un moment ludique et joye
 ux pour comprendre la biodiversité et les défis auxquels sont confronté
 s les insectes. Changeons de regard sur ces petites bêtes ! Car ces 30 de
 rnières années, c'est 80 % des insectes qui ont disparu... et sans eux 
 c'est la catastrophe !
LOCATION:Maison de l'environnement
DTSTAMP:20260209T153434Z
DTSTART:20260710T115539Z
DTEND:20260710T115539Z
END:VEVENT
END:VCALENDAR