BEGIN:VCALENDAR
VERSION:2.0
PRODID:https://github.com/derhansen/sf_event_mgt
METHOD:PUBLISH
BEGIN:VEVENT
UID:15326-569@www.maine-et-loire.fr
CLASS: PUBLIC
SUMMARY:À la découverte des graines de haies bocagères : préparation des semis
DESCRIPTION:Animation 123 jardin de l'association Horizon Bocage\n\nVenez d
 écouvrir comment préparer des semis de graines récoltées dans la natur
 e. Au menu : Dépulpage et préparation pour la stratification, plantation
  / semis dans des rouleaux pour les grosses graines (glands, châtaignes, 
 noix)\n\nDans le cadre du projet “Patrimoine arboré” soutenu par Maug
 es Communauté
LOCATION:Lieu exact précisé ultérieurement
DTSTAMP:20260423T100042Z
DTSTART:20261002T220000Z
DTEND:20261002T220000Z
END:VEVENT
END:VCALENDAR