BEGIN:VCALENDAR
VERSION:2.0
PRODID:https://github.com/derhansen/sf_event_mgt
METHOD:PUBLISH
BEGIN:VEVENT
UID:14898-611@www.maine-et-loire.fr
CLASS: PUBLIC
SUMMARY:À la recherche des salamandres
DESCRIPTION:Dans le cadre des Rendez-vous nature 2026.\n\nPartez à la déc
 ouverte de la Réserve naturelle régionale et Espace naturel sensible de 
 la Ferme bocagère de la Chauffetière, au cœur de la vallée des Robinet
 s. À la tombée du jour, partez à la rencontre de la salamandre tacheté
 e, emblème des milieux humides et des sous-bois. Cette amphibien dépend 
 d’un bocage bien préservé pour se reproduire et se déplacer : un parf
 ait indicateur de la bonne santé de la réserve.\n\nL’animation sera au
 ssi l’occasion de découvrir le travail mené par le Conservatoire pour 
 protéger et valoriser ce site exceptionnel.
LOCATION:Réserve de la Chauffetière
Drain
DTSTAMP:20260209T154502Z
DTSTART:20261009T115540Z
DTEND:20261009T115540Z
END:VEVENT
END:VCALENDAR