BEGIN:VCALENDAR
VERSION:2.0
PRODID:https://github.com/derhansen/sf_event_mgt
METHOD:PUBLISH
BEGIN:VEVENT
UID:15109-569@www.maine-et-loire.fr
CLASS: PUBLIC
SUMMARY:A la rencontre de la vallée de l'Hyrôme
DESCRIPTION:À travers une balade accompagnée d’un arboriste grimpeur-pa
 ssionné, d’un bénévole de l’association sensible à la préservati
 on des ENS, nous vous proposons une lecture de paysage de la vallée de l
 'Hyrôme sous les couleurs de l’automne pour découvrir les spécificit
 és de sa valorisation.
LOCATION:Lieu précisé ultérieurement
DTSTAMP:20260217T152835Z
DTSTART:20261016T220000Z
DTEND:20261016T220000Z
END:VEVENT
END:VCALENDAR