BEGIN:VCALENDAR
VERSION:2.0
PRODID:https://github.com/derhansen/sf_event_mgt
METHOD:PUBLISH
BEGIN:VEVENT
UID:15189-569@www.maine-et-loire.fr
CLASS: PUBLIC
SUMMARY:Angers Triathlon
DESCRIPTION:Le Triathlon d’Angers se déroulera les 16 et 17 mai 2026 à 
 Angers, au lac de Maine. Cet événement sportif rassemble des participant
 s de tous niveaux autour de trois disciplines : natation, vélo et course 
 à pied. Plusieurs formats de courses sont proposés, des épreuves jeunes
  aux courses adultes, dans une ambiance conviviale et ouverte au public.\n
 \nUn village partenaires et une buvette seront également présents sur pl
 ace pour permettre aux spectateurs et aux participants de profiter pleinem
 ent de l’événement.
LOCATION:Lac de maine
DTSTAMP:20260407T074159Z
DTSTART:20260515T220000Z
DTEND:20260516T220000Z
END:VEVENT
END:VCALENDAR