BEGIN:VCALENDAR
VERSION:2.0
PRODID:https://github.com/derhansen/sf_event_mgt
METHOD:PUBLISH
BEGIN:VEVENT
UID:14916-611@www.maine-et-loire.fr
CLASS: PUBLIC
SUMMARY:Apprenti pisteur
DESCRIPTION:Dans le cadre des Rendez-vous nature 2026.\n\nLors d'une balade
  ludique, partez pister les animaux des étangs et des forêts.\n\nLes enf
 ants doivent obligatoirement être accompagnés par un adulte. Prévoir un
 e paire de bottes.
LOCATION:Parking de l'étang de Joreau
DTSTAMP:20260209T154711Z
DTSTART:20261022T115540Z
DTEND:20261022T115540Z
END:VEVENT
END:VCALENDAR