BEGIN:VCALENDAR
VERSION:2.0
PRODID:https://github.com/derhansen/sf_event_mgt
METHOD:PUBLISH
BEGIN:VEVENT
UID:14796-611@www.maine-et-loire.fr
CLASS: PUBLIC
SUMMARY:Arbres
DESCRIPTION:Dans le cadre des Rendez-vous nature 2026.\n\nUne visite hors d
 u temps sous forme de bulle botanique. Trois personnages bien branchés vo
 us emmènent serpenter dans un Espace naturel sensible, au bord d'une rivi
 ère, à la découverte des arbres. De l’apport scientifique à l’hist
 orique du lieu de la représentation, vos guides se chicanent leur amour d
 es arbres.\n\nPrévoir une lampe torche et des vêtements chauds.
LOCATION:Parking Guinguette de Raz-Gué
Allée du Rocher
Montrevault
DTSTAMP:20260209T153314Z
DTSTART:20260704T115539Z
DTEND:20260704T115539Z
END:VEVENT
END:VCALENDAR