BEGIN:VCALENDAR
VERSION:2.0
PRODID:https://github.com/derhansen/sf_event_mgt
METHOD:PUBLISH
BEGIN:VEVENT
UID:15026-1587@www.maine-et-loire.fr
CLASS: PUBLIC
SUMMARY:Atelier CIRQUE avec la Cie 3 x rien
DESCRIPTION:Équilibre et déséquilibre, exploration des possibilités du 
 corps et des agrès. Le cirque fait rêver et nous emmène en voyage, d’
 autant plus autour du nouveau spectacle de la Cie 3 x rien, A CONTRE VENT.
  Pierre et David Cluzaud vous feront découvrir leur travail et vous feron
 t traverser leurs recherches et explorations.\n\nL'atelier s'adresse aux d
 uos adultes - enfants à partir de 8 ans. \n\nLa participation à un stag
 e, en lien avec un spectacle de la saison 25/26, vous permet de venir voir
  le spectacle au tarif réduit (dans la limite des places disponibles et s
 ous réserve de votre inscription au préalable).
LOCATION:THV 
1 rue Jean Gilles
DTSTAMP:20260203T131632Z
DTSTART:20260429T160000Z
DTEND:20260429T180000Z
END:VEVENT
END:VCALENDAR