BEGIN:VCALENDAR
VERSION:2.0
PRODID:https://github.com/derhansen/sf_event_mgt
METHOD:PUBLISH
BEGIN:VEVENT
UID:14324-569@www.maine-et-loire.fr
CLASS: PUBLIC
SUMMARY:Atelier fabrication de structures-tuteurs pour le potager
DESCRIPTION:Animation 123 jardin ! de l'association Horizon Bocage\n\nVenez
  découvrir et échanger sur les différentes structures tuteurs que l'on 
 peut faire pour le jardin à partir de cordes, bambous et autres végétau
 x.
LOCATION:Jardin du Cloître
3 rue du Mail
DTSTAMP:20260119T111722Z
DTSTART:20260424T220000Z
DTEND:20260424T220000Z
END:VEVENT
END:VCALENDAR