BEGIN:VCALENDAR
VERSION:2.0
PRODID:https://github.com/derhansen/sf_event_mgt
METHOD:PUBLISH
BEGIN:VEVENT
UID:15020-569@www.maine-et-loire.fr
CLASS: PUBLIC
SUMMARY:Atelier RecycLame
DESCRIPTION:Du dessin à la réalisation, Fred vous accompagnera le temps d
 ’une journée.\n\nVous n’utiliserez que des outils manuels : lime, râ
 pe, scie, cisaille, marteau… et des méthodes traditionnelles – décou
 pe à la cisaille à tôle, rivetage à froid, affûtage à la meule à ea
 u… L’ outillage et la matière première seront fournis.\n\nVous repar
 tirez avec votre réalisation en ayant exploré concrètement l’univers 
 des Low-Tech.
LOCATION:Le Cercle Pointu
28 bis rue de la Broderie
DTSTAMP:20260202T102152Z
DTSTART:20260612T220000Z
DTEND:20260612T220000Z
END:VEVENT
END:VCALENDAR