BEGIN:VCALENDAR
VERSION:2.0
PRODID:https://github.com/derhansen/sf_event_mgt
METHOD:PUBLISH
BEGIN:VEVENT
UID:14861-611@www.maine-et-loire.fr
CLASS: PUBLIC
SUMMARY:Atelier « Secrets d'écorces »
DESCRIPTION:Dans le cadre des Rendez-vous nature 2026.\n\nTout commence ave
 c un vieux livre retrouvé au fond d'un jardin. Mais ce livre n'est pas or
 dinaire, il contient les pensées et la mémoire d'une très vieux chêne,
  à l'époque où les humains vénéraient les arbres. Mais le livre s'eff
 ace, il faut que les enfants, et leurs parents retrouvent les secrets des 
 arbres pour pouvoir les transmettre et aider la nature. De la douceur méd
 itative passée à regarder un arbre jusqu'à la folle chasse au trésors 
 de la fée chlorophylle, une aventure douce et vibrante à partager en fam
 ille.
LOCATION:Ferme des coteaux
Saint-Florent-la-Vieil
DTSTAMP:20260209T154131Z
DTSTART:20260827T115539Z
DTEND:20260827T115539Z
END:VEVENT
END:VCALENDAR