BEGIN:VCALENDAR
VERSION:2.0
PRODID:https://github.com/derhansen/sf_event_mgt
METHOD:PUBLISH
BEGIN:VEVENT
UID:14862-611@www.maine-et-loire.fr
CLASS: PUBLIC
SUMMARY:Attention, ça pique !
DESCRIPTION:Dans le cadre des Rendez-vous nature 2026.\n\nVous avez envie d
 e protéger le Hérisson d'Europe ? La LPO Anjou vous donne rendez-vous po
 ur découvrir son mode de vie et les menaces qui pèsent sur lui. 
LOCATION:Médiathèque Saint-Exupéry
1 rue Charles de Gaulle
DTSTAMP:20260209T154137Z
DTSTART:20260827T115539Z
DTEND:20260827T115539Z
END:VEVENT
END:VCALENDAR