BEGIN:VCALENDAR
VERSION:2.0
PRODID:https://github.com/derhansen/sf_event_mgt
METHOD:PUBLISH
BEGIN:VEVENT
UID:14706-611@www.maine-et-loire.fr
CLASS: PUBLIC
SUMMARY:Au paradis des oiseaux d'eau
DESCRIPTION:Dans le cadre des Rendez-vous nature 2026.\n\nÉquipés de jume
 lles et de longue-vues, partez à la découverte des oiseaux de l’Espace
  naturel sensible « Gravières et bois des Monteaux ». Grèbes huppés, 
 Chevalier guignette, Nette rousse n'auront plus de secrets pour vous...
LOCATION:Rue du plan d'eau
DTSTAMP:20260209T152133Z
DTSTART:20260429T115539Z
DTEND:20260429T115539Z
END:VEVENT
END:VCALENDAR