BEGIN:VCALENDAR
VERSION:2.0
PRODID:https://github.com/derhansen/sf_event_mgt
METHOD:PUBLISH
BEGIN:VEVENT
UID:14817-611@www.maine-et-loire.fr
CLASS: PUBLIC
SUMMARY:Au temps des simples
DESCRIPTION:Dans le cadre des Rendez-vous nature 2026.\n\nAu fil de la ball
 ade botanique, vous apprendrez à observer et identifier les plantes. Les 
 participants feront connaissance avec des remèdes anciens, utilisés par 
 les apothicaires du Moyen Âge.
LOCATION:Lieu communiqué à l'inscription
DTSTAMP:20260209T153526Z
DTSTART:20260712T115539Z
DTEND:20260712T115539Z
END:VEVENT
END:VCALENDAR