BEGIN:VCALENDAR
VERSION:2.0
PRODID:https://github.com/derhansen/sf_event_mgt
METHOD:PUBLISH
BEGIN:VEVENT
UID:13709-570@www.maine-et-loire.fr
CLASS: PUBLIC
SUMMARY:Aux ryhtmes des vagues
DESCRIPTION:Plongez aux sources de la musique polynésienne, douce et encha
 nteresse, se métissant parfois de jazz swing ou de country-blues. Spectac
 le en partenariat avec les JMF
LOCATION:Maison Pour Tous
3 rue de l'écriture
DTSTAMP:20250626T150050Z
DTSTART:20260519T220000Z
DTEND:20260519T220000Z
END:VEVENT
END:VCALENDAR