BEGIN:VCALENDAR
VERSION:2.0
PRODID:https://github.com/derhansen/sf_event_mgt
METHOD:PUBLISH
BEGIN:VEVENT
UID:14904-611@www.maine-et-loire.fr
CLASS: PUBLIC
SUMMARY:Aventure botanique
DESCRIPTION:Dans le cadre des Rendez-vous nature 2026.\n\nRévélez les sec
 rets du végétal ! Prêts à décrypter la flore qui vous entoure ? Parte
 z à la rencontre des plantes et des arbres du territoire ! Plus qu'une si
 mple balade, c'est une véritable initiation qui vous attend. Au programme
  : apprenez à identifier les espèces grâce à tous les indices : formes
  des feuilles, textures des écorces, couleurs des fleurs, et silhouettes 
 uniques. Nous mettrons en place un protocole participatif crucial, comme c
 elui de l'Observatoire des saisons (ODS). Votre mission ? Suivre les étap
 es clés du cycle des plantes (bourgeons, floraison, feuillaison, fructifi
 cation...). Chaque observation que vous faites est précieuse ! En suivant
  le rythme des saisons, vous aidez directement les scientifiques à compre
 ndre et à étudier les effets du changement climatique. Simple curieux ou
  botaniste en herbe, cette activité est faite pour vous !
LOCATION:Rue Auguste Renoir
DTSTAMP:20260209T154602Z
DTSTART:20261017T115540Z
DTEND:20261017T115540Z
END:VEVENT
END:VCALENDAR