BEGIN:VCALENDAR
VERSION:2.0
PRODID:https://github.com/derhansen/sf_event_mgt
METHOD:PUBLISH
BEGIN:VEVENT
UID:13750-570@www.maine-et-loire.fr
CLASS: PUBLIC
SUMMARY:Bal Folk
DESCRIPTION:Musiques et Danses traditionnelles, avec l’atelier Folk et la
  classe d'accordéon diatonique, placé sous la direction d’Éric Mancea
 u et Christian Vital pour vous guider sur les danses traditionnelles.
LOCATION:Salle Expert
Boulevard du Champ de Foire
Pouancé
DTSTAMP:20250701T071657Z
DTSTART:20260529T220000Z
DTEND:20260529T220000Z
END:VEVENT
END:VCALENDAR