BEGIN:VCALENDAR
VERSION:2.0
PRODID:https://github.com/derhansen/sf_event_mgt
METHOD:PUBLISH
BEGIN:VEVENT
UID:14865-611@www.maine-et-loire.fr
CLASS: PUBLIC
SUMMARY:Balade à quatre temps
DESCRIPTION:Dans le cadre des Rendez-vous nature 2026.\n\nLa Bulle Ambu'len
 te vous invite à ralentir : marcher au rythme du cheval, prendre le tem
 ps d'observer, de découvrir, d'échanger... \n\nCette randonnée vous pe
 rmet de découvrir :\n\n 	une mobilité douce et proche de la nature : l
 a traction hippomobile ; 	un circuit de randonnée au cœur d'un Espace na
 turel sensible angevin : la Vallée de la Loire amont ; 	les richesses de 
 ces ENS par le biais d'observations et d'ateliers de découverte ; 	les pa
 ysages et les productions agricoles locales. 
LOCATION:Gohier
DTSTAMP:20260209T154155Z
DTSTART:20260828T115540Z
DTEND:20260828T115540Z
END:VEVENT
END:VCALENDAR