BEGIN:VCALENDAR
VERSION:2.0
PRODID:https://github.com/derhansen/sf_event_mgt
METHOD:PUBLISH
BEGIN:VEVENT
UID:14816-611@www.maine-et-loire.fr
CLASS: PUBLIC
SUMMARY:Balade contée
DESCRIPTION:Dans le cadre des Rendez-vous nature 2026.\n\nBalade contée, p
 our découvrir les histoires locales, découvrir le monde que l'on travers
 e d'habitude sans vraiment regarder : la forme des arbres, les traces d'un
  animal, les différents paysages. Toutes leurs histoires nous expliquent 
 pourquoi et comment ils sont devenus ce qu'ils sont.\n\nÀ partir de 5 ans
 .
LOCATION:Hameau de l'Èvre
Allée des renardières
Montrevault
DTSTAMP:20260209T153521Z
DTSTART:20260711T115539Z
DTEND:20260711T115539Z
END:VEVENT
END:VCALENDAR