BEGIN:VCALENDAR
VERSION:2.0
PRODID:https://github.com/derhansen/sf_event_mgt
METHOD:PUBLISH
BEGIN:VEVENT
UID:14818-611@www.maine-et-loire.fr
CLASS: PUBLIC
SUMMARY:Balade contée
DESCRIPTION:Dans le cadre des Rendez-vous nature 2026.\n\nDécouvrez les ha
 bitants du lac de Maine en vous laissant porter par une balade contée.\n\
 nEnfants obligatoirement accompagnés par un adulte.
LOCATION:Esplanade du lac de Maine
DTSTAMP:20260209T153532Z
DTSTART:20260715T115539Z
DTEND:20260715T115539Z
END:VEVENT
END:VCALENDAR