BEGIN:VCALENDAR
VERSION:2.0
PRODID:https://github.com/derhansen/sf_event_mgt
METHOD:PUBLISH
BEGIN:VEVENT
UID:14847-611@www.maine-et-loire.fr
CLASS: PUBLIC
SUMMARY:Balade contée
DESCRIPTION:Dans le cadre des Rendez-vous nature 2026.\n\nDécouvrez l'éta
 ng de Montayer en vous laissant porter par une balade contée.\n\nEnfants 
 obligatoirement accompagnés par un adulte.
LOCATION:Maison Pêche Nature
DTSTAMP:20260209T153907Z
DTSTART:20260820T115539Z
DTEND:20260820T115539Z
END:VEVENT
END:VCALENDAR