BEGIN:VCALENDAR
VERSION:2.0
PRODID:https://github.com/derhansen/sf_event_mgt
METHOD:PUBLISH
BEGIN:VEVENT
UID:14840-611@www.maine-et-loire.fr
CLASS: PUBLIC
SUMMARY:Balade contée en Maine et moi
DESCRIPTION:Dans le cadre des Rendez-vous nature 2026.\n\nDécouvrez les hi
 stoires au fil du chemin, le long de la Maine, pour découvrir la vie de s
 es habitants : oiseaux, grenouilles et serpents...
LOCATION:Parking du Camping du Lac de Maine
DTSTAMP:20260209T153822Z
DTSTART:20260815T115539Z
DTEND:20260805T115539Z
END:VEVENT
END:VCALENDAR