BEGIN:VCALENDAR
VERSION:2.0
PRODID:https://github.com/derhansen/sf_event_mgt
METHOD:PUBLISH
BEGIN:VEVENT
UID:14745-611@www.maine-et-loire.fr
CLASS: PUBLIC
SUMMARY:Balade contée
DESCRIPTION:Dans le cadre des Rendez-vous nature 2026.\n\nAu travers d'un c
 hemin, évadez-vous, laissez votre imaginaire vous porter et découvrir la
  biodiversité à vos pieds.
LOCATION:Port Albert
DTSTAMP:20260209T152557Z
DTSTART:20260530T115539Z
DTEND:20260530T115539Z
END:VEVENT
END:VCALENDAR