BEGIN:VCALENDAR
VERSION:2.0
PRODID:https://github.com/derhansen/sf_event_mgt
METHOD:PUBLISH
BEGIN:VEVENT
UID:14727-611@www.maine-et-loire.fr
CLASS: PUBLIC
SUMMARY:Balade de ferme
DESCRIPTION:Dans le cadre des Rendez-vous nature 2026.\n\nDÃ©couvrez les bo
 cages et mares de l'ouest d'Angers Ã  travers cette balade de ferme : aprÃ
 ¨s un accueil autour d'une tisane et la prÃ©sentation de la CoopÃ©ration d
 â€™installation en agriculture paysanne (CIAP), dÃ©couvrez l'histoire de c
 ette ferme Ã  10 minutes d'Angers. Du fait de sa gÃ©ologie particuliÃ¨re, 
 cette zone a pu Ã©chapper aux remembrements et conserver ses haies bocagÃ¨
 res.
LOCATION:La MonniÃ¨re
1574 route des Landes
DTSTAMP:20260209T152420Z
DTSTART:20260522T115539Z
DTEND:20260522T115539Z
END:VEVENT
END:VCALENDAR