BEGIN:VCALENDAR
VERSION:2.0
PRODID:https://github.com/derhansen/sf_event_mgt
METHOD:PUBLISH
BEGIN:VEVENT
UID:14800-611@www.maine-et-loire.fr
CLASS: PUBLIC
SUMMARY:Balade d'orientation
DESCRIPTION:Dans le cadre des Rendez-vous nature 2026.\n\nPartez sur les tr
 aces des animaux cachés tout au long au parcours : observez, explorez et 
 retrouvez des animaux malicieux en vous aidant de votre carte.
LOCATION:Parking du Pont Barré
DTSTAMP:20260209T153334Z
DTSTART:20260708T115539Z
DTEND:20260708T115539Z
END:VEVENT
END:VCALENDAR