BEGIN:VCALENDAR
VERSION:2.0
PRODID:https://github.com/derhansen/sf_event_mgt
METHOD:PUBLISH
BEGIN:VEVENT
UID:14718-611@www.maine-et-loire.fr
CLASS: PUBLIC
SUMMARY:Balade gourmande
DESCRIPTION:Dans le cadre des Rendez-vous nature 2026.\n\nAprès une visite
  de l'apothicairerie, venez vous balader et découvrir les plantes sauvage
 s comestibles : les astuces pour les reconnaître, les façons de les cons
 ommer... et régalez-vous ensuite avec la dégustation de quelques recette
 s !\n\nPrévoir chaussures de marche et vêtements adapté à la météo.
LOCATION:Hôtel-Dieu
Baugé
DTSTAMP:20260209T152241Z
DTSTART:20260509T115539Z
DTEND:20260509T115539Z
END:VEVENT
END:VCALENDAR