BEGIN:VCALENDAR
VERSION:2.0
PRODID:https://github.com/derhansen/sf_event_mgt
METHOD:PUBLISH
BEGIN:VEVENT
UID:14901-611@www.maine-et-loire.fr
CLASS: PUBLIC
SUMMARY:Balade plantes sauvages
DESCRIPTION:Dans le cadre des Rendez-vous nature 2026.\n\nVenez découvrir 
 les plantes sauvages comestibles, avec dégustation de quelques recettes e
 n fin d’animation.
LOCATION:Parking communal, face au 2147 Chambiers
DTSTAMP:20260209T154523Z
DTSTART:20261010T115540Z
DTEND:20261010T115540Z
END:VEVENT
END:VCALENDAR