BEGIN:VCALENDAR
VERSION:2.0
PRODID:https://github.com/derhansen/sf_event_mgt
METHOD:PUBLISH
BEGIN:VEVENT
UID:14797-611@www.maine-et-loire.fr
CLASS: PUBLIC
SUMMARY:Balade plantes tinctoriales
DESCRIPTION:Dans le cadre des Rendez-vous nature 2026.\n\nDécouverte des p
 igments végétaux et des plantes tinctoriales sauvages. De tout temps, la
  nature a su nous offrir différentes couleurs. Les participants partiront
  à la rencontre de ces plantes à couleur ; les reconnaitre, les nommer e
 t mieux connaître leurs histoires.
LOCATION:Maison des Associations
Place du Calvaire
DTSTAMP:20260209T153320Z
DTSTART:20260707T115539Z
DTEND:20260707T115539Z
END:VEVENT
END:VCALENDAR