BEGIN:VCALENDAR
VERSION:2.0
PRODID:https://github.com/derhansen/sf_event_mgt
METHOD:PUBLISH
BEGIN:VEVENT
UID:14732-611@www.maine-et-loire.fr
CLASS: PUBLIC
SUMMARY:Balade plantes tinctoriales
DESCRIPTION:Dans le cadre des Rendez-vous nature 2026.\n\nDéambulation à 
 la découverte des pigments végétaux et des plantes tinctoriales sauvage
 s. De tout temps, la nature a su nous offrir différentes couleurs. Les pa
 rticipants partiront à la rencontre de ces plantes à couleurs ; les reco
 nnaitre, les nommer et mieux connaître leurs histoires.
LOCATION:Esplanade du Lac de Maine
DTSTAMP:20260209T152445Z
DTSTART:20260523T115539Z
DTEND:20260523T115539Z
END:VEVENT
END:VCALENDAR