BEGIN:VCALENDAR
VERSION:2.0
PRODID:https://github.com/derhansen/sf_event_mgt
METHOD:PUBLISH
BEGIN:VEVENT
UID:14823-611@www.maine-et-loire.fr
CLASS: PUBLIC
SUMMARY:Balade sensorielle et ludique
DESCRIPTION:Dans le cadre des Rendez-vous nature 2026.\n\nÉveillez vos sen
 s en découvrant l'étang de Joreau et ses habitants.\n\nLes enfants doive
 nt obligatoirement être accompagnés par un adulte.
LOCATION:Parking de l'étang de Joreau
DTSTAMP:20260209T153557Z
DTSTART:20260717T115539Z
DTEND:20260717T115539Z
END:VEVENT
END:VCALENDAR