BEGIN:VCALENDAR
VERSION:2.0
PRODID:https://github.com/derhansen/sf_event_mgt
METHOD:PUBLISH
BEGIN:VEVENT
UID:14218-570@www.maine-et-loire.fr
CLASS: PUBLIC
SUMMARY:Bal(les)
DESCRIPTION:Bal(les) nait de la rencontre de deux artistes. Une, plutôt ac
 robate et l’autre, clairement jongleur… deux personnages qui jouent, s
 e taquinent et se cherchent à travers leurs langages respectifs.
LOCATION:Derrière la mairie de Cheffes
DTSTAMP:20251230T084441Z
DTSTART:20260529T220000Z
DTEND:20260529T220000Z
END:VEVENT
END:VCALENDAR