BEGIN:VCALENDAR
VERSION:2.0
PRODID:https://github.com/derhansen/sf_event_mgt
METHOD:PUBLISH
BEGIN:VEVENT
UID:13879-570@www.maine-et-loire.fr
CLASS: PUBLIC
SUMMARY:Bateau
DESCRIPTION:Un comédien bricoleur et loufoque, immergé dans une chambre d
 ’enfant, ouvre le coffre au trésor de son passé.
LOCATION:En extérieur
DTSTAMP:20251021T130009Z
DTSTART:20260425T220000Z
DTEND:20260425T220000Z
END:VEVENT
END:VCALENDAR