BEGIN:VCALENDAR
VERSION:2.0
PRODID:https://github.com/derhansen/sf_event_mgt
METHOD:PUBLISH
BEGIN:VEVENT
UID:14003-569@www.maine-et-loire.fr
CLASS: PUBLIC
SUMMARY:Beau comme un tracteur
DESCRIPTION:Une projection organisÃ©e dans le cadre du Mois du film documen
 taire.\n\nUn film de Clara Beaudoux.\n\nMais oÃ¹ est le beau ? Une fille d
 e la ville propose Ã  son oncle de la campagne de partir en quÃªte du Â«Â 
 beauÂ Â» dans la Beauce. Au fil des saisons et de la vie de Michel, tous d
 eux glanent du Â«Â beauÂ Â» : des paysages, des objets, des gens. Regarder
  ensemble pour apprendre Ã  Ãªtre ensemble. Un dialogue visuel et joyeux, 
 avec celles et ceux, loin des villes, Ã  qui l'on ne demande jamais ce quâ
 €™ils trouvent beau.\n\nâ€¦ et pour reproduire une scÃ¨ne du film, le publ
 ic est invitÃ© Ã  venir, Ã  son tour, avec un objet beau quâ€™il pourra pr
 Ã©senter.\n\nLa projection sera suivie dâ€™un Ã©change avec la rÃ©alisatri
 ce Clara Beaudoux.
LOCATION:ThÃ©Ã¢tre des Dames 
4, rue des Dames
DTSTAMP:20251117T084358Z
DTSTART:20251120T230000Z
DTEND:20251121T223000Z
END:VEVENT
END:VCALENDAR