BEGIN:VCALENDAR
VERSION:2.0
PRODID:https://github.com/derhansen/sf_event_mgt
METHOD:PUBLISH
BEGIN:VEVENT
UID:15278-569@www.maine-et-loire.fr
CLASS: PUBLIC
SUMMARY:Bike & Run Family
DESCRIPTION:Le Bike & Run Family est une course de 5km où un adulte court 
 accompagné de son enfant à vélo accessible à tous,\n\nL’objectif est
  de promouvoir l’activité physique, le lien intergénérationnel et les
  moments de partage en famille.
LOCATION:Hippodrome d'Angers
DTSTAMP:20260330T141642Z
DTSTART:20260613T220000Z
DTEND:20260613T220000Z
END:VEVENT
END:VCALENDAR