BEGIN:VCALENDAR
VERSION:2.0
PRODID:https://github.com/derhansen/sf_event_mgt
METHOD:PUBLISH
BEGIN:VEVENT
UID:14756-611@www.maine-et-loire.fr
CLASS: PUBLIC
SUMMARY:Biodiversité camouflée
DESCRIPTION:Dans le cadre des Rendez-vous nature 2026.\n\nDepuis 2019, le C
 onservatoire d'espaces naturels accompagne le Ministère des Armées pour 
 préserver l'extraordinaire richesse des terrains militaires (Life Natur'A
 rmy). En partenariat avec les Écoles militaires de Saumur, le Conservatoi
 re a mis en place un plan de gestion écologique du camp de Fontevraud pou
 r gérer et préserver les espèces des mares, landes ou boisements.\n\nLe
  Conservatoire et l'EMS souhaitent vous faire découvrir la biodiversité 
 extraordinaire d'un site hors du commun par sa taille (3 000 ha), ses rich
 esses et ses particularités liées à son activité.
LOCATION:Parking route de Bizay
DTSTAMP:20260209T152729Z
DTSTART:20260604T115539Z
DTEND:20260604T115539Z
END:VEVENT
END:VCALENDAR