BEGIN:VCALENDAR
VERSION:2.0
PRODID:https://github.com/derhansen/sf_event_mgt
METHOD:PUBLISH
BEGIN:VEVENT
UID:15207-569@www.maine-et-loire.fr
CLASS: PUBLIC
SUMMARY:Boum boum baroque!  #désir
DESCRIPTION:BOUM BOUM BAROQUE! #désir\n\nAvec Eléonore PANCRAZI, mezzo so
 prano Clément Debieuvre, ténor Marouan Mankar-Bennis, clavecin Eleanor L
 ewis-Cloué, viole de gambe\n\nEt si nous vous révélions ce que signifie
  vraiment le mot désir dans la musique baroque ?\n\nCette force d’attra
 ction, cette attente brûlante face à l’être qui fait battre le cœur 
 autrement…\n\nPassion, amour, haine, fantasme, casse-tête amoureux…\n
 \nÀ travers deux grands opéras baroques français — Hippolyte et Arici
 e de Jean-Philippe Rameau et Armide de Jean-Baptiste Lully — Éléonore,
  tour à tour Phèdre ou Armide, et Clément, tour à tour Hippolyte ou Re
 naud, vous entraîneront au cœur de scènes où le désir se fait tourmen
 t, aveu, vertige.\n\nEt parce que le désir traverse les siècles, quelque
 s surprises musicales viendront faire résonner le baroque au rythme du bo
 um boum d’aujourd’hui…\n\nUn concert vibrant, intense, où les émot
 ions battent la mesure.
LOCATION:Auditorium du conservatoire à rayonnement régional d’Angers 
Esplanade Henri Dutilleux
DTSTAMP:20260316T104103Z
DTSTART:20260428T220000Z
DTEND:20260428T220000Z
END:VEVENT
END:VCALENDAR