BEGIN:VCALENDAR
VERSION:2.0
PRODID:https://github.com/derhansen/sf_event_mgt
METHOD:PUBLISH
BEGIN:VEVENT
UID:13446-569@www.maine-et-loire.fr
CLASS: PUBLIC
SUMMARY:Breakfast in coconut paradise
DESCRIPTION:En ce grand jour, l’Orchestre National de la Principauté Aut
 o-Indépendante du Jahiner, sublime contrée aux multiples boules à facet
 tes, est en visite officielle dans votre chatoyante bourgade. Ces cinq tru
 blions vous feront voyager aux quatre coins de leur patrie. Embarquez avec
  eux pour un périple rocamb.
LOCATION:Jardin, 11 quai de la Noë
DTSTAMP:20250602T103231Z
DTSTART:20250719T220000Z
DTEND:20250719T220000Z
END:VEVENT
END:VCALENDAR