BEGIN:VCALENDAR
VERSION:2.0
PRODID:https://github.com/derhansen/sf_event_mgt
METHOD:PUBLISH
BEGIN:VEVENT
UID:14923-611@www.maine-et-loire.fr
CLASS: PUBLIC
SUMMARY:Brico-piquant !
DESCRIPTION:Dans le cadre des Rendez-vous nature 2026.\n\nÀ l’aide de ma
 tériaux de récupération, venez fabriquer des gîtes à hérissons. Vous
  pourrez les installer dans votre jardin pour l’aider à passer l’hive
 r. Il est plus que temps de venir en aide à ce petit mammifère !
LOCATION:Médiathèque Saint-Exupéry
1 rue Charles de Gaulle
DTSTAMP:20260209T154748Z
DTSTART:20261028T125540Z
DTEND:20261028T125540Z
END:VEVENT
END:VCALENDAR