BEGIN:VCALENDAR
VERSION:2.0
PRODID:https://github.com/derhansen/sf_event_mgt
METHOD:PUBLISH
BEGIN:VEVENT
UID:14709-611@www.maine-et-loire.fr
CLASS: PUBLIC
SUMMARY:Ces herbes si exceptionnelles
DESCRIPTION:Dans le cadre des Rendez-vous nature 2026.\n\nPartez à la renc
 ontre des plantes sauvages médicinales et nourricières. Entre balade et 
 théorie, vous apprendrez à reconnaître une dizaine de plantes dans leur
  milieu naturel.
LOCATION:Centre aéré du chêne fournier
DTSTAMP:20260209T152147Z
DTSTART:20260502T115539Z
DTEND:20260502T115539Z
END:VEVENT
END:VCALENDAR