BEGIN:VCALENDAR
VERSION:2.0
PRODID:https://github.com/derhansen/sf_event_mgt
METHOD:PUBLISH
BEGIN:VEVENT
UID:15110-569@www.maine-et-loire.fr
CLASS: PUBLIC
SUMMARY:Championnat départemental 49 de cyclisme
DESCRIPTION:Ça se passe à Montpollin, le vendredi 1e mai 2026 ! \n\nLe c
 omité des fêtes de Montpollin en collaboration avec le Vélo Club Beaufo
 rtais ont le plaisir d’accueillir le Championnat cycliste départemental
  de Maine-et-Loire !\n\nLes courses se dérouleront sur un circuit de 7 km
 , avec plusieurs tours selon les catégories, pour offrir un beau spectacl
 e tout au long de la journée\n\nCatégories : ACCESS 1 - 2 - 3 - 4\n\nÉv
 énement ouvert à tous : familles, passionnés de vélo et curieux\n\nBuv
 ette & restauration rapide sur place\n\nVenez encourager les coureurs et p
 artager une belle journée sportive et conviviale à Montpollin !
LOCATION:Montpollin
DTSTAMP:20260218T083105Z
DTSTART:20260430T220000Z
DTEND:20260430T220000Z
END:VEVENT
END:VCALENDAR