BEGIN:VCALENDAR
VERSION:2.0
PRODID:https://github.com/derhansen/sf_event_mgt
METHOD:PUBLISH
BEGIN:VEVENT
UID:15229-1587@www.maine-et-loire.fr
CLASS: PUBLIC
SUMMARY:Chants de mÃ©diterranÃ©e - Ensemble Sequenza 9.3
DESCRIPTION:Lâ€™ensemble vocal professionnel Ã  gÃ©omÃ©trie variable dirigÃ
 © par Catherineâ€¯Simonpietriâ€¯se produit dans de nombreuses salles et fe
 stivals, en France et Ã  lâ€™Ã©tranger.â€¯ Ce programme fait honneur Ã  lâ
 €™oralitÃ© insulaire de toute la mÃ©diterranÃ©e. Berceau de migrations suc
 cessives et dâ€™influences croisÃ©es, le bassin mÃ©diterranÃ©en est un ter
 reau musical particuliÃ¨rement fÃ©cond. La cheffe deâ€¯choeurâ€¯a souhaitÃ
 © en parcourir les rives par le biais de mÃ©lodies de tradition orale arra
 ngÃ©es pour 6 voix de femmes. Depuis le sud de la France, en passant par l
 â€™Italie, la GrÃ¨ce et la Turquie, nous parvenons jusquâ€™au Proche-Orien
 t, avant de revenir par lâ€™Ã‰gypte puis lâ€™Espagneâ€¦â€¯\n\nPolies au fi
 l des temps, ces mÃ©lodies nous touchent aujourdâ€™hui car elles portent e
 n elles, en diffÃ©rentes strates, les existences particuliÃ¨res de ceux qu
 i nous ont prÃ©cÃ©dÃ©s et nous lÃ¨guent un hÃ©ritage sensible sans frontiÃ
 ¨res.â€¯\n\nÃ€ dÃ©couvrir dans la belle collÃ©giale de Montreuil-Bellay qu
 e la saison culturelle de la CommunautÃ© dâ€™AgglomÃ©ration investit pour 
 la premiÃ¨re fois !â€¯
LOCATION:CollÃ©giale de Notre-Dame
157 Rue des Douves
DTSTAMP:20260325T103446Z
DTSTART:20260530T190000Z
DTEND:20260530T093200Z
END:VEVENT
END:VCALENDAR