BEGIN:VCALENDAR
VERSION:2.0
PRODID:https://github.com/derhansen/sf_event_mgt
METHOD:PUBLISH
BEGIN:VEVENT
UID:15186-569@www.maine-et-loire.fr
CLASS: PUBLIC
SUMMARY:Chasse au trésor
DESCRIPTION:Après plusieurs années, la Chasse au trésor est enfin de ret
 our et Noyant-Villages devient un véritable terrain d’exploration !\n\n
 En famille, entre amis ou en solo, partez sur les traces de mystérieux in
 dices disséminés à travers les paysages et le patrimoine de la commune.
 \n\nMunissez-vous de votre carnet d’énigmes à récupérer à la mairie
  de Noyant-Villages et choisissez votre rythme : à pied, à vélo ou en v
 oiture, relevez les défis en une journée ou prolongez l’aventure sur p
 lusieurs jours.\n\nRéflexion, observation et esprit d’équipe seront vo
 s meilleurs alliés… et des lots récompenseront les explorateurs les pl
 us perspicaces !
LOCATION:Communes déléguées de Noyant-Villages : Auverse, Breil, Broc, Chavaignes, Chalonnes-sous-le-Lude, Chigné, Dénezé-sous-le-Lude, Parçay-les-Pins.
DTSTAMP:20260311T143548Z
DTSTART:20260630T220000Z
DTEND:20260830T220000Z
END:VEVENT
END:VCALENDAR