BEGIN:VCALENDAR
VERSION:2.0
PRODID:https://github.com/derhansen/sf_event_mgt
METHOD:PUBLISH
BEGIN:VEVENT
UID:14822-611@www.maine-et-loire.fr
CLASS: PUBLIC
SUMMARY:Chauve-souris du Layon
DESCRIPTION:Dans le cadre des Rendez-vous nature 2026.\n\nLa VallÃ©e du Lay
 on est habitÃ©e par 19 des 30 espÃ¨ces de chauve-souris de France. MammifÃ
 ¨res discrets et fragiles, elles jouent un rÃ´le crucial dans nos campagne
 s. Dans le vignoble, elles consomment plusieurs espÃ¨ces de papillons dont
  la pullulation peut causer de gros dÃ©gÃ¢ts. Animation avec prÃ©sentation
  des diffÃ©rentes espÃ¨ces prÃ©sentes, dÃ©ambulation avec bat box (outil p
 ermettant de dÃ©tecter les chauves-souris et de dÃ©terminer lâ€™espÃ¨ce). 
 Plus gÃ©nÃ©ralement, cet Ã©vÃ¨nement est lâ€™occasion dâ€™aborder de faÃ§o
 n ludique des notions complexes de paysage et dâ€™agriculture.
LOCATION:Parking du Pont BarrÃ©
DTSTAMP:20260209T153552Z
DTSTART:20260717T115539Z
DTEND:20260717T115539Z
END:VEVENT
END:VCALENDAR