BEGIN:VCALENDAR
VERSION:2.0
PRODID:https://github.com/derhansen/sf_event_mgt
METHOD:PUBLISH
BEGIN:VEVENT
UID:14828-611@www.maine-et-loire.fr
CLASS: PUBLIC
SUMMARY:Chauves-souris du Saumurois
DESCRIPTION:Dans le cadre des Rendez-vous nature 2026.\n\nLe saumurois offr
 e un habitat idéal pour les chauves-souris grâce à ses bois, ses coteau
 x, la Loire à proximité et ses nombreuses cavités. Venez découvrir leu
 r mode de vie et en apprendre plus sur ces petits mammifères volants !
LOCATION:Parking de l’aire de camping-car
Dampierre-sur-Loire
DTSTAMP:20260209T153657Z
DTSTART:20260724T115539Z
DTEND:20260724T115539Z
END:VEVENT
END:VCALENDAR