BEGIN:VCALENDAR
VERSION:2.0
PRODID:https://github.com/derhansen/sf_event_mgt
METHOD:PUBLISH
BEGIN:VEVENT
UID:14733-611@www.maine-et-loire.fr
CLASS: PUBLIC
SUMMARY:Chenilles et compagnie
DESCRIPTION:Dans le cadre des Rendez-vous nature 2026.\n\nRouge, bleu, jaun
 e, noir, vert... toutes les couleurs sont dans la nature et sur les papill
 ons ! Mais pourquoi ? À l'aide d'un filet à papillons et de loupes, vene
 z découvrir les enfants chenilles et leurs parents papillons qui ne se re
 ssemblent pas du tout !
LOCATION:Parc du Montatais
Jallais
DTSTAMP:20260209T152450Z
DTSTART:20260523T115539Z
DTEND:20260523T115539Z
END:VEVENT
END:VCALENDAR