BEGIN:VCALENDAR
VERSION:2.0
PRODID:https://github.com/derhansen/sf_event_mgt
METHOD:PUBLISH
BEGIN:VEVENT
UID:14776-611@www.maine-et-loire.fr
CLASS: PUBLIC
SUMMARY:Chut ! Ça bouge en Loire...
DESCRIPTION:Dans le cadre des Rendez-vous nature 2026.\n\nAu bord de ce fle
 uve emblématique, le plus long de France, venez découvrir les espèces n
 icheuses et de passages : Sternes naines et pierregarin, Chevalier guignet
 te, Aigrette garzette...
LOCATION:Parking de l'aire de camping-car
DTSTAMP:20260209T153127Z
DTSTART:20260610T115539Z
DTEND:20260610T115539Z
END:VEVENT
END:VCALENDAR